BEGIN:VCALENDAR
VERSION:2.0
PRODID:-//Laurens County Humane Society - ECPv6.15.20//NONSGML v1.0//EN
CALSCALE:GREGORIAN
METHOD:PUBLISH
X-WR-CALNAME:Laurens County Humane Society
X-ORIGINAL-URL:https://laurenshumane.org
X-WR-CALDESC:Events for Laurens County Humane Society
REFRESH-INTERVAL;VALUE=DURATION:PT1H
X-Robots-Tag:noindex
X-PUBLISHED-TTL:PT1H
BEGIN:VTIMEZONE
TZID:America/New_York
BEGIN:DAYLIGHT
TZOFFSETFROM:-0500
TZOFFSETTO:-0400
TZNAME:EDT
DTSTART:20250309T070000
END:DAYLIGHT
BEGIN:STANDARD
TZOFFSETFROM:-0400
TZOFFSETTO:-0500
TZNAME:EST
DTSTART:20251102T060000
END:STANDARD
BEGIN:DAYLIGHT
TZOFFSETFROM:-0500
TZOFFSETTO:-0400
TZNAME:EDT
DTSTART:20260308T070000
END:DAYLIGHT
BEGIN:STANDARD
TZOFFSETFROM:-0400
TZOFFSETTO:-0500
TZNAME:EST
DTSTART:20261101T060000
END:STANDARD
BEGIN:DAYLIGHT
TZOFFSETFROM:-0500
TZOFFSETTO:-0400
TZNAME:EDT
DTSTART:20270314T070000
END:DAYLIGHT
BEGIN:STANDARD
TZOFFSETFROM:-0400
TZOFFSETTO:-0500
TZNAME:EST
DTSTART:20271107T060000
END:STANDARD
END:VTIMEZONE
BEGIN:VEVENT
DTSTART;TZID=America/New_York:20260606T000000
DTEND;TZID=America/New_York:20260606T235959
DTSTAMP:20260425T062949
CREATED:20260411T121556Z
LAST-MODIFIED:20260411T121556Z
UID:221-1780704000-1780790399@laurenshumane.org
SUMMARY:Petco Adoption Event - June
DESCRIPTION:Join us at Petco Simpsonville to meet some of our adoptable dogs!
URL:https://laurenshumane.org/event/petco-adoption-event-june/
LOCATION:Petco Simpsonville\, 353 Harrison Bridge Rd\, Simpsonville\, SC\, 29680\, United States
CATEGORIES:Petco Adoption Events
END:VEVENT
END:VCALENDAR